BEGIN:VCALENDAR
VERSION:2.0
PRODID:-//Squarespace Inc/Squarespace 6//v6//EN
BEGIN:VEVENT
UID:59af95a48419c2b37df9c452@squarespace.com
DTSTAMP:20170906T063006Z
DTSTART:20180523T130000Z
DTEND:20180523T140000Z
SUMMARY:World Turtle Day!
END:VEVENT
END:VCALENDAR
